BEGIN:VCALENDAR
VERSION:2.0
PRODID:-//Plone.org//NONSGML plone.app.event//EN
X-WR-TIMEZONE:US/Central
BEGIN:VEVENT
SUMMARY:Summer Reading Program Kickoff
DTSTART;TZID=US/Central:20090604T100000
DTEND;TZID=US/Central:20090604T110000
DTSTAMP:20260419T155734Z
UID:9f8a7cc7686d91ef128182ece410f474@saas_stack_varnish:6080
CONTACT:Shirley Dahl\, 675-6495\, nplib@htcomp.net
CREATED:20090513T005740Z
DESCRIPTION:Bonzo Crunch\, Fool at Large\, to entertain the child in all o
 f us!
LAST-MODIFIED:20090513T015953Z
LOCATION:Clifton Civic Center
URL:https://www.cliftonlib.com/news-events/lib-cal/summer-reading-program-
 kickoff
END:VEVENT
BEGIN:VTIMEZONE
TZID:US/Central
X-LIC-LOCATION:US/Central
BEGIN:DAYLIGHT
DTSTART:20090308T030000
TZNAME:CDT
TZOFFSETFROM:-0600
TZOFFSETTO:-0500
END:DAYLIGHT
END:VTIMEZONE
END:VCALENDAR
