BEGIN:VCALENDAR
VERSION:2.0
PRODID:-//Plone.org//NONSGML plone.app.event//EN
X-WR-TIMEZONE:US/Central
BEGIN:VEVENT
SUMMARY:Library Sale
DTSTART;TZID=US/Central:20090403T080000
DTEND;TZID=US/Central:20090403T170000
DTSTAMP:20260419T155525Z
UID:b17ed8e6b459ba0abf603d37c83f7d5a@saas_stack_varnish:6080
CONTACT:Shirley Dahl\, 675-6495\, nplib@htcomp.net
CREATED:20090403T134856Z
DESCRIPTION:Annual county-wide garage sale
LAST-MODIFIED:20090403T134903Z
LOCATION:Library (behind Civic Center)
URL:https://www.cliftonlib.com/news-events/lib-cal/library-sale
END:VEVENT
BEGIN:VTIMEZONE
TZID:US/Central
X-LIC-LOCATION:US/Central
BEGIN:DAYLIGHT
DTSTART:20090308T030000
TZNAME:CDT
TZOFFSETFROM:-0600
TZOFFSETTO:-0500
END:DAYLIGHT
END:VTIMEZONE
END:VCALENDAR
