BEGIN:VCALENDAR
VERSION:2.0
PRODID:-//Plone.org//NONSGML plone.app.event//EN
X-WR-TIMEZONE:US/Central
BEGIN:VEVENT
SUMMARY:Closed for Thanksgiving
DTSTART;TZID=US/Central:20081127T120000
DTEND;TZID=US/Central:20081127T170000
DTSTAMP:20260419T155412Z
UID:b02803bbaf510eafaf67cd5d64f41eb8@saas_stack_varnish:6080
CREATED:20081028T220824Z
LAST-MODIFIED:20081028T221046Z
URL:https://www.cliftonlib.com/news-events/lib-cal/event.2008-10-28.608228
 8447
END:VEVENT
BEGIN:VTIMEZONE
TZID:US/Central
X-LIC-LOCATION:US/Central
BEGIN:STANDARD
DTSTART:20081102T010000
TZNAME:CST
TZOFFSETFROM:-0500
TZOFFSETTO:-0600
END:STANDARD
END:VTIMEZONE
END:VCALENDAR
