BEGIN:VCALENDAR
VERSION:2.0
PRODID:-//Plone.org//NONSGML plone.app.event//EN
X-WR-TIMEZONE:US/Central
BEGIN:VEVENT
SUMMARY:Book Discussion Group
DTSTART;TZID=US/Central:20090928T110000
DTEND;TZID=US/Central:20090928T120000
DTSTAMP:20260419T155412Z
UID:0ddf8d1a51e3eced05acc25bf7c0cffe@saas_stack_varnish:6080
CONTACT:Shirley Dahl\, 675-6495\, nplib@htcomp.net
CREATED:20090809T204923Z
DESCRIPTION:Same Kind of Difference as Me by Ron Hall
LAST-MODIFIED:20090809T204934Z
LOCATION:Nellie Pederson Civic Library
URL:https://www.cliftonlib.com/news-events/lib-cal/book-discussion-group-5
END:VEVENT
BEGIN:VTIMEZONE
TZID:US/Central
X-LIC-LOCATION:US/Central
BEGIN:DAYLIGHT
DTSTART:20090308T030000
TZNAME:CDT
TZOFFSETFROM:-0600
TZOFFSETTO:-0500
END:DAYLIGHT
END:VTIMEZONE
END:VCALENDAR
