BEGIN:VCALENDAR
VERSION:2.0
PRODID:-//Plone.org//NONSGML plone.app.event//EN
X-WR-TIMEZONE:US/Central
BEGIN:VEVENT
SUMMARY:Book Discussion Group
DTSTART;TZID=US/Central:20090727T104500
DTEND;TZID=US/Central:20090727T120000
DTSTAMP:20260419T160311Z
UID:ffe8fc6e4e31d975286b38cba36f9fc0@saas_stack_varnish:6080
CONTACT:Shirley Dahl\, 675-6495\, nplib@htcomp.net
CREATED:20090517T195223Z
DESCRIPTION:July Meeting
LAST-MODIFIED:20090517T201312Z
LOCATION:Nellie Pederson Civic Library
URL:https://www.cliftonlib.com/news-events/lib-cal/book-discussion-group-3
END:VEVENT
BEGIN:VTIMEZONE
TZID:US/Central
X-LIC-LOCATION:US/Central
BEGIN:DAYLIGHT
DTSTART:20090308T030000
TZNAME:CDT
TZOFFSETFROM:-0600
TZOFFSETTO:-0500
END:DAYLIGHT
END:VTIMEZONE
END:VCALENDAR
